BEGIN:VCALENDAR
VERSION:2.0
PRODID:-//eventon.com NONSGML v1.0//EN
CALSCALE:GREGORIAN
METHOD:PUBLISH
BEGIN:VEVENT
UID:69e72fca73207
DTSTAMP:20260421T080530Z
DTSTART:20230905T180000Z
DTEND:20230905T200000Z
LOCATION:Salle de Luttenbach 2 Rue de l'École\,  68140 Luttenbach-près-Munster
SUMMARY:Rentrée 2023
DESCRIPTION:Rentrée de la chorale Chanteval &nbsp;\nhttps://chanteval.org/
 events/rentree-2023/
URL:https://chanteval.org/events/rentree-2023/
END:VEVENT
END:VCALENDAR