BEGIN:VCALENDAR
VERSION:2.0
PRODID:-//eventon.com NONSGML v1.0//EN
CALSCALE:GREGORIAN
METHOD:PUBLISH
BEGIN:VEVENT
UID:69e731ad09ae9
DTSTAMP:20260421T081333Z
DTSTART:20240910T180000Z
DTEND:20240910T200000Z
LOCATION:Salle de Luttenbach 2 Rue de l'École\,  68140 Luttenbach-près-Munster
SUMMARY:Répétition chorale
DESCRIPTION:Répétition chorale\nhttps://chanteval.org/events/repetition-c
 horale-2/
URL:https://chanteval.org/events/repetition-chorale-2/
END:VEVENT
END:VCALENDAR